BEGIN:VCALENDAR
PRODID:NingEventWidget-v1
VERSION:2.0
METHOD:PUBLISH
BEGIN:VEVENT
UID:6286598:Event:17902
DTSTAMP:20260421T102618Z
SUMMARY:The Naked Anabaptist: the bare essentials of a radical faith
DESCRIPTION:Friends, a last chance to book on this course. Ursula Widn
 sor has booked but needs help with travel. The viability of the event 
 depends on one more booking and Ursula being able to make it. Bursary
  assistance available. Responses within the next 24 hour please.\n\nFo
 r more information visit http://nffquaker.org/events/the-naked-anabapt
 ist-the-bare-essentials-of-a-radical-faith
DTSTART:20130405T180000Z
DTEND:20130407T140000Z
CATEGORIES:weekend, course, and, day, school
LOCATION:Birmingham UK
WEBSITE:http://www.woodbrooke.org.uk/courses.php?action=course&id=8159
URL:http://www.woodbrooke.org.uk/courses.php?action=course&id=8159
CONTACT:0121 415 6768
ORGANIZER;CN="Stuart Masters":http://nffquaker.org/profile/StuartMaste
 rs
ATTACH;FMTTYPE="image/jpeg":http://storage.ning.com/topology/rest/1.0/
 file/get/1115042080?profile=original
ATTENDEE;ROLE=REQ-PARTICIPANT;PARTSTAT=ACCEPTED;RSVP=TRUE;CN="Stuart M
 asters":http://nffquaker.org/profile/StuartMasters
END:VEVENT
END:VCALENDAR
