BEGIN:VCALENDAR
PRODID:NingEventWidget-v1
VERSION:2.0
METHOD:PUBLISH
BEGIN:VEVENT
UID:6286598:Event:17860
DTSTAMP:20260421T133853Z
SUMMARY:NFF Workers Gathering
DESCRIPTION:Gathering for worship and Business\n\nSee Notes attached 
 here;\n\nFor more information visit http://nffquaker.org/events/nff-wo
 rkers-gathering-1
DTSTART:20130504T100000Z
DTEND:20130504T160000Z
CATEGORIES:worker, gathering
LOCATION:Ursula Windsor's
WEBSITE:http://maps.google.com/maps?q=51.861334,-2.247305&ll=51.861354
 ,-2.247283&spn=0.003956,0.012392&num=1&t=m&z=17&iwloc=A
URL:http://maps.google.com/maps?q=51.861334,-2.247305&ll=51.861354,-2.
 247283&spn=0.003956,0.012392&num=1&t=m&z=17&iwloc=A
CONTACT:01452-549669
ORGANIZER;CN="Allistair Lomax":http://nffquaker.org/profile/1q0exj1yh6
 e79
ATTACH;FMTTYPE="image/jpeg":
ATTENDEE;ROLE=REQ-PARTICIPANT;PARTSTAT=ACCEPTED;RSVP=TRUE;CN="Allistai
 r Lomax":http://nffquaker.org/profile/1q0exj1yh6e79
END:VEVENT
END:VCALENDAR
