BEGIN:VCALENDAR
PRODID:NingEventWidget-v1
VERSION:2.0
METHOD:PUBLISH
BEGIN:VEVENT
UID:6286598:Event:11401
DTSTAMP:20260422T214805Z
SUMMARY:New Foundation Workers Gathering
DESCRIPTION:New Business meeting of New Foundation Fellowship Workers 
 and Supporters.All interested Parties welcome.\n\nFor more information
  visit http://nffquaker.org/events/new-foundation-workers-gathering
DTSTART:20111126T100000Z
DTEND:20111126T160000Z
CATEGORIES:workers, gathering
LOCATION:Gloucester
WEBSITE:http://maps.google.co.uk/maps?q=51.861279,+-2.247388&num=1&t=h
 &sll=53.072149,-1.468135&sspn=0.013409,0.032015&hl=en&ie=UTF8&ll=51.86
 1279,-2.247388&spn=0.001449,0.003259&z=19&iwloc=A
URL:http://maps.google.co.uk/maps?q=51.861279,+-2.247388&num=1&t=h&sll
 =53.072149,-1.468135&sspn=0.013409,0.032015&hl=en&ie=UTF8&ll=51.861279
 ,-2.247388&spn=0.001449,0.003259&z=19&iwloc=A
CONTACT:01452-549669
ORGANIZER;CN="Allistair Lomax":http://nffquaker.org/profile/1q0exj1yh6
 e79
ATTACH;FMTTYPE="image/jpeg":
ATTENDEE;ROLE=REQ-PARTICIPANT;PARTSTAT=ACCEPTED;RSVP=TRUE;CN="Allistai
 r Lomax":http://nffquaker.org/profile/1q0exj1yh6e79
END:VEVENT
END:VCALENDAR
