BEGIN:VCALENDAR
PRODID:NingEventWidget-v1
VERSION:2.0
METHOD:PUBLISH
BEGIN:VEVENT
UID:6286598:Event:17797
DTSTAMP:20260420T151652Z
SUMMARY:New Foundation Workers Gathering
DESCRIPTION:New Foundation Workers Gathering to held (provisionally) a
 t Ursula Windsor's in Gloucester\n\nFor more information visit http://
 nffquaker.org/events/new-foundation-workers-gathering-1
DTSTART:20130817T000000Z
DTEND:20130817T235900Z
CATEGORIES:workers, gathering, business, meeting
LOCATION:Ursula Windor's
WEBSITE:http://maps.google.co.uk/maps?q=51.861279,+-2.247388&num=1&t=h
 &sll=53.072149,-1.468135&sspn=0.013409,0.032015&hl=en&ie=UTF8&ll=51.86
 1279,-2.247388&spn=0.001449,0.003259&z=19&iwloc=A
URL:http://maps.google.co.uk/maps?q=51.861279,+-2.247388&num=1&t=h&sll
 =53.072149,-1.468135&sspn=0.013409,0.032015&hl=en&ie=UTF8&ll=51.861279
 ,-2.247388&spn=0.001449,0.003259&z=19&iwloc=A
CONTACT:
ORGANIZER;CN="Allistair Lomax":http://nffquaker.org/profile/1q0exj1yh6
 e79
ATTACH;FMTTYPE="image/jpeg":
ATTENDEE;ROLE=REQ-PARTICIPANT;PARTSTAT=ACCEPTED;RSVP=TRUE;CN="Allistai
 r Lomax":http://nffquaker.org/profile/1q0exj1yh6e79
END:VEVENT
END:VCALENDAR
