BEGIN:VCALENDAR
PRODID:NingEventWidget-v1
VERSION:2.0
METHOD:PUBLISH
BEGIN:VEVENT
UID:6286598:Event:14709
DTSTAMP:20260422T200221Z
SUMMARY:New Foundation Gathering
DESCRIPTION:A Gathering of the New Foundation Fellowship for Worship a
 nd Fellowship. All Welcome.\n\nFor more information visit http://nffqu
 aker.org/events/new-foundation-gathering
DTSTART:20120519T103000Z
DTEND:20120519T170000Z
CATEGORIES:workers, gathering
LOCATION:To Be Arranged
WEBSITE:
URL:
CONTACT:
ORGANIZER;CN="Allistair Lomax":http://nffquaker.org/profile/1q0exj1yh6
 e79
ATTACH;FMTTYPE="image/jpeg":
END:VEVENT
END:VCALENDAR
