BEGIN:VCALENDAR
PRODID:NingEventWidget-v1
VERSION:2.0
METHOD:PUBLISH
BEGIN:VEVENT
UID:6286598:Event:14610
DTSTAMP:20260422T181457Z
SUMMARY:New Foundation Gathering (Britain Yearly Meeting)
DESCRIPTION:Firbank Fell - what does it mean for us today? The event o
 f Fox preaching to and reaching over 1,000 seekers on Firbank Fell is 
 something that is deeply embedded in the Quaker consciousness. The New
  Foundation Fellowship believe that the Quaker message is for all time
 s and all people. Please join us to consider how we continue this work
 .\n\n5/26/2012 17.30 - 18.30\nB04 - Drayton House\n\n\n This is a fla
 t floored room in the basement of Drayton House (the west end of the F
 riends House building). It has room for 20 people in rows of fixed sea
 ting.\n\n\n View Larger Map\n\nFor more information visit http://nffqu
 aker.org/events/new-foundation-gathering-britain-yearly-meeting
DTSTART:20120526T173000Z
DTEND:20120526T183000Z
CATEGORIES:general, gathering
LOCATION:B04 - Drayton House, Near Friends House, London
WEBSITE:http://maps.google.co.uk/maps?q=Drayton+House,+Gordon+Street,+
 London&hl=en&ll=51.526234,-0.133317&spn=0.005801,0.013078&sll=51.6535,
 -0.276608&sspn=0.740389,1.674042&oq=drayton+house,+gordon&t=h&hnear=Dr
 ayton+House,+30+Gordon+St,+London,+Greater+London+WC1H+0AN,+United+Kin
 gdom&z=17
URL:http://maps.google.co.uk/maps?q=Drayton+House,+Gordon+Street,+Lond
 on&hl=en&ll=51.526234,-0.133317&spn=0.005801,0.013078&sll=51.6535,-0.2
 76608&sspn=0.740389,1.674042&oq=drayton+house,+gordon&t=h&hnear=Drayto
 n+House,+30+Gordon+St,+London,+Greater+London+WC1H+0AN,+United+Kingdom
 &z=17
CONTACT:
ORGANIZER;CN="Allistair Lomax":http://nffquaker.org/profile/1q0exj1yh6
 e79
ATTACH;FMTTYPE="image/jpeg":
ATTENDEE;ROLE=REQ-PARTICIPANT;PARTSTAT=ACCEPTED;RSVP=TRUE;CN="Allistai
 r Lomax":http://nffquaker.org/profile/1q0exj1yh6e79
ATTENDEE;ROLE=REQ-PARTICIPANT;PARTSTAT=ACCEPTED;RSVP=TRUE;CN="Malcolm 
 Winch":http://nffquaker.org/profile/MalcolmWinch
END:VEVENT
END:VCALENDAR
