BEGIN:VCALENDAR
PRODID:NingEventWidget-v1
VERSION:2.0
METHOD:PUBLISH
BEGIN:VEVENT
UID:6286598:Event:6803
DTSTAMP:20260421T102449Z
SUMMARY:Monthly Fox-Reading Telephone Conference Call
DESCRIPTION:For anyone in the continental United States, every third m
 onday, we gather via telephone conference call to read and discuss a p
 ortion of Fox's writings. We are currently working on \"That Thy Candl
 es May Always Be Burning.\" We meet at 6:00 p.m. mountain time.\n \nC
 ontact me for call-in information\n\nFor more information visit http:/
 /nffquaker.org/events/monthly-fox-reading-telephone
DTSTART:20160822T180000Z
DTEND:20160822T190000Z
CATEGORIES:conference, call
LOCATION:Casper, Wyoming
WEBSITE:
URL:
CONTACT:
ORGANIZER;CN="Ellis Hein":http://nffquaker.org/profile/EllisHein
ATTACH;FMTTYPE="image/jpeg":
ATTENDEE;ROLE=REQ-PARTICIPANT;PARTSTAT=ACCEPTED;RSVP=TRUE;CN="Patricia
  Dallmann":http://nffquaker.org/profile/PatriciaDallmann
ATTENDEE;ROLE=REQ-PARTICIPANT;PARTSTAT=ACCEPTED;RSVP=TRUE;CN="Ellis He
 in":http://nffquaker.org/profile/EllisHein
END:VEVENT
END:VCALENDAR
