BEGIN:VCALENDAR
PRODID:NingEventWidget-v1
VERSION:2.0
METHOD:PUBLISH
BEGIN:VEVENT
UID:6286598:Event:15234
DTSTAMP:20260422T181932Z
SUMMARY:Conservative Friends Meeting for Worship
DESCRIPTION:Short study session followed by untimed Meeting for Worshi
 p. All welcome,  but intended to uphold Christian Quakerism as it is 
 accepted within the New Foundation Community.\nMeet in Quaker Centre C
 offee Shop at 9.15 a.m. or thereabouts.\n\nFor more information visit 
 http://nffquaker.org/events/conservative-friends-meeting-for-worship
DTSTART:20120728T091500Z
DTEND:20120728T113000Z
CATEGORIES:meeting, for, worship
LOCATION:Friends' House London
WEBSITE:
URL:
CONTACT:
ORGANIZER:Malcolm Winch and others
ATTACH;FMTTYPE="image/jpeg":
ATTENDEE;ROLE=REQ-PARTICIPANT;PARTSTAT=ACCEPTED;RSVP=TRUE;CN="Malcolm 
 Winch":http://nffquaker.org/profile/MalcolmWinch
ATTENDEE;ROLE=REQ-PARTICIPANT;PARTSTAT=TENTATIVE;RSVP=TRUE;CN="Allista
 ir Lomax":http://nffquaker.org/profile/1q0exj1yh6e79
END:VEVENT
END:VCALENDAR
