BEGIN:VCALENDAR
PRODID:NingEventWidget-v1
VERSION:2.0
METHOD:PUBLISH
BEGIN:VEVENT
UID:6286598:Event:17118
DTSTAMP:20260420T102612Z
SUMMARY:Conservative Friends Meeting for Worship
DESCRIPTION:Meeting for Worship in the manner of Conservative Friends.
  We meet from 9.15a.m. in the Quaker Centre Coffee Shop. A short study
  session is followed by an untimed Meeting. All welcome, but intended 
 to uphold Quakerism as it is understood within the New Foundation Comm
 unity.\n\nFor more information visit http://nffquaker.org/events/conse
 rvative-friends-meeting-for-worship-4
DTSTART:20130105T091500Z
DTEND:20130105T120000Z
CATEGORIES:meeting, for, worship
LOCATION:Friends' House, Euston Road, London
WEBSITE:
URL:
CONTACT:
ORGANIZER:Graham Ellis and others
ATTACH;FMTTYPE="image/jpeg":
ATTENDEE;ROLE=REQ-PARTICIPANT;PARTSTAT=ACCEPTED;RSVP=TRUE;CN="Malcolm 
 Winch":http://nffquaker.org/profile/MalcolmWinch
END:VEVENT
END:VCALENDAR
