BEGIN:VCALENDAR
PRODID:NingEventWidget-v1
VERSION:2.0
METHOD:PUBLISH
BEGIN:VEVENT
UID:6286598:Event:7506
DTSTAMP:20260422T230833Z
SUMMARY:British NFF Workers Gathering
DESCRIPTION:Working Committee of the New Foundation Fellowship in the 
 UK\nAgenda to be decided\n \nPlease find the notes of the meeting her
 e: notes of workers meeting 24-09-11.doc\n\nFor more information visit
  http://nffquaker.org/events/british-nff-workers-gathering
DTSTART:20110924T000000Z
DTEND:20110924T235900Z
CATEGORIES:workers, gathering
LOCATION:DCIL, Ripley
WEBSITE:http://maps.google.com/maps?q=53.049701,-1.40316&ll=53.049756,
 -1.40316&spn=0.002796,0.006539&sll=37.0625,-95.677068&sspn=23.875,57.6
 30033&num=1&z=18
URL:http://maps.google.com/maps?q=53.049701,-1.40316&ll=53.049756,-1.4
 0316&spn=0.002796,0.006539&sll=37.0625,-95.677068&sspn=23.875,57.63003
 3&num=1&z=18
CONTACT:01773-850021
ORGANIZER;CN="Allistair Lomax":http://nffquaker.org/profile/1q0exj1yh6
 e79
ATTACH;FMTTYPE="image/jpeg":
ATTENDEE;ROLE=REQ-PARTICIPANT;PARTSTAT=ACCEPTED;RSVP=TRUE;CN="Allistai
 r Lomax":http://nffquaker.org/profile/1q0exj1yh6e79
END:VEVENT
END:VCALENDAR
