BEGIN:VCALENDAR
PRODID:NingEventWidget-v1
VERSION:2.0
METHOD:PUBLISH
BEGIN:VEVENT
UID:6286598:Event:17603
DTSTAMP:20260421T120905Z
SUMMARY:Annual Conference (London)
DESCRIPTION:The New Foundation Annual Conference will take place at Fr
 iends\" House Euston Road London. The cost will be £10 per person pay
 able on the day. It will include Meeting for Worship, a question and a
 nswer session, discussion and a bookstall. The theme will be \"did Geo
 rge Fox get it right?\" Bring a packed lunch, or use catering faciliti
 es at Friends' House or nearby.\n\nFor more information visit http://n
 ffquaker.org/events/annual-conference-london
DTSTART:20130420T100000Z
DTEND:20130420T170000Z
CATEGORIES:conference
LOCATION:Friends' House, Euston Road, London
WEBSITE:
URL:
CONTACT:0208 854 7952 (London)
ORGANIZER:New Foundation Workers
ATTACH;FMTTYPE="image/jpeg":
ATTENDEE;ROLE=REQ-PARTICIPANT;PARTSTAT=ACCEPTED;RSVP=TRUE;CN="Justin M
 eggitt":http://nffquaker.org/profile/JustinMeggitt
ATTENDEE;ROLE=REQ-PARTICIPANT;PARTSTAT=ACCEPTED;RSVP=TRUE;CN="Malcolm 
 Winch":http://nffquaker.org/profile/MalcolmWinch
END:VEVENT
END:VCALENDAR
